BEGIN:VCALENDAR
VERSION:2.0
PRODID:-//Buddhism.lv - ECPv5.14.1//NONSGML v1.0//EN
CALSCALE:GREGORIAN
METHOD:PUBLISH
X-WR-CALNAME:Buddhism.lv
X-ORIGINAL-URL:https://mail.buddhism.lv
X-WR-CALDESC:Events for Buddhism.lv
BEGIN:VTIMEZONE
TZID:UTC
BEGIN:STANDARD
TZOFFSETFROM:+0000
TZOFFSETTO:+0000
TZNAME:UTC
DTSTART:20220101T000000
END:STANDARD
END:VTIMEZONE
BEGIN:VEVENT
DTSTART;VALUE=DATE:20221224
DTEND;VALUE=DATE:20221227
DTSTAMP:20260421T140221
CREATED:20221206T101019Z
LAST-MODIFIED:20221206T200416Z
UID:1482-1671840000-1672099199@mail.buddhism.lv
SUMMARY:Лекции Антона Орлова
DESCRIPTION:Приглашаем вас посетить лекцию Антона Орлова (Израиль) «Буддизм в современном мире». Лекция состоится 25 декабря в 17:00 в рижском буддийском центре Алмазного пути.\nАнтон Орлов практикует буддизм с 2002 года. С 2012 года он читает лекции о буддизме и буддийской медитации по просьбе Ламы Оле Нидала.
URL:https://mail.buddhism.lv/event/%d0%bb%d0%b5%d0%ba%d1%86%d0%b8%d0%b8-%d0%b0%d0%bd%d1%82%d0%be%d0%bd%d0%b0-%d0%be%d1%80%d0%bb%d0%be%d0%b2%d0%b0/
CATEGORIES:Лекции
ATTACH;FMTTYPE=image/png:https://buddhism.lv/wp-content/uploads/2022/12/1.png
END:VEVENT
END:VCALENDAR