BEGIN:VCALENDAR
VERSION:2.0
PRODID:-//Buddhism.lv - ECPv5.14.1//NONSGML v1.0//EN
CALSCALE:GREGORIAN
METHOD:PUBLISH
X-WR-CALNAME:Buddhism.lv
X-ORIGINAL-URL:https://mail.buddhism.lv
X-WR-CALDESC:Events for Buddhism.lv
BEGIN:VTIMEZONE
TZID:UTC
BEGIN:STANDARD
TZOFFSETFROM:+0000
TZOFFSETTO:+0000
TZNAME:UTC
DTSTART:20230101T000000
END:STANDARD
END:VTIMEZONE
BEGIN:VEVENT
DTSTART;VALUE=DATE:20231111
DTEND;VALUE=DATE:20231113
DTSTAMP:20260421T082350
CREATED:20231019T204222Z
LAST-MODIFIED:20231019T205508Z
UID:1560-1699660800-1699833599@mail.buddhism.lv
SUMMARY:Лекции Бернхарда Линднера
DESCRIPTION:Приглашаем посетить лекции Бернхарда Линднера (Германия)\, которые состоятся в ноябре в рижском буддийском центре Алмазного пути: \n\n11.11 (16:00) — лекция «Буддизм Алмазного пути»\n11.11 (19:00) — лекция «Медитация»\n12.11 (10:00) — лекция «Значение сангхи. Отношения учителя и ученика»
URL:https://mail.buddhism.lv/event/%d0%bb%d0%b5%d0%ba%d1%86%d0%b8%d0%b8-%d0%b1%d0%b5%d1%80%d0%bd%d1%85%d0%b0%d1%80%d0%b4%d0%b0-%d0%bb%d0%b8%d0%bd%d0%b4%d0%b5%d1%80%d0%b0/
CATEGORIES:Лекции
ATTACH;FMTTYPE=image/jpeg:https://buddhism.lv/wp-content/uploads/2023/10/Bernhard.jpg
END:VEVENT
END:VCALENDAR