BEGIN:VCALENDAR
VERSION:2.0
PRODID:-//Buddhism.lv - ECPv5.14.1//NONSGML v1.0//EN
CALSCALE:GREGORIAN
METHOD:PUBLISH
X-WR-CALNAME:Buddhism.lv
X-ORIGINAL-URL:https://mail.buddhism.lv
X-WR-CALDESC:Events for Buddhism.lv
BEGIN:VTIMEZONE
TZID:UTC
BEGIN:STANDARD
TZOFFSETFROM:+0000
TZOFFSETTO:+0000
TZNAME:UTC
DTSTART:20220101T000000
END:STANDARD
END:VTIMEZONE
BEGIN:VEVENT
DTSTART;TZID=UTC:20220930T190000
DTEND;TZID=UTC:20221002T170000
DTSTAMP:20260421T151757
CREATED:20220906T213517Z
LAST-MODIFIED:20220906T213542Z
UID:1468-1664564400-1664730000@mail.buddhism.lv
SUMMARY:Лекции Гжегожа Кузнеца
DESCRIPTION:Друзья!\nПриглашаем вас на лекции путешествующего учителя Гжегожа Кузнеца (Польша)\, которые пройдут с 30 сентября по 2 октября в рижском буддийском центре. Начало лекций:\n30 сентября (пятница) – 19:00\n1 октября (суббота) – 16:00\n2 октября (воскресенье) – 13:00\nВремя лекций может измениться!
URL:https://mail.buddhism.lv/event/%d0%bb%d0%b5%d0%ba%d1%86%d0%b8%d0%b8-%d0%b3%d0%b6%d0%b5%d0%b3%d0%be%d0%b6%d0%b0-%d0%ba%d1%83%d0%b7%d0%bd%d0%b5%d1%86%d0%b0-%d0%bf%d0%be%d0%bb%d1%8c%d1%88%d0%b0/
CATEGORIES:Лекции
ATTACH;FMTTYPE=image/jpeg:https://buddhism.lv/wp-content/uploads/2022/09/302525844_2662751210527426_7052970762680819987_n.jpg
END:VEVENT
END:VCALENDAR