BEGIN:VCALENDAR
VERSION:2.0
PRODID:-//Buddhism.lv - ECPv5.14.1//NONSGML v1.0//EN
CALSCALE:GREGORIAN
METHOD:PUBLISH
X-WR-CALNAME:Buddhism.lv
X-ORIGINAL-URL:https://mail.buddhism.lv
X-WR-CALDESC:Events for Buddhism.lv
BEGIN:VTIMEZONE
TZID:UTC
BEGIN:STANDARD
TZOFFSETFROM:+0000
TZOFFSETTO:+0000
TZNAME:UTC
DTSTART:20170101T000000
END:STANDARD
END:VTIMEZONE
BEGIN:VEVENT
DTSTART;VALUE=DATE:20170318
DTEND;VALUE=DATE:20170319
DTSTAMP:20260421T235404
CREATED:20170220T215227Z
LAST-MODIFIED:20220702T212503Z
UID:1313-1489795200-1489881599@mail.buddhism.lv
SUMMARY:Лекции Данаса Казлаускаса в Даугавпилсе
DESCRIPTION:Буддийский центр Алмазного Пути линии Карма Кагью приглашает всех желающих на лекцию Данаса Казлауска (Литва) которая состоятся:\n18.03.2017 в Центре искусств им. Марка Ротко в Даугавпилсе в 15:00
URL:https://mail.buddhism.lv/event/%d0%bb%d0%b5%d0%ba%d1%86%d0%b8%d0%b8-%d0%ba%d0%b0%d1%80%d0%be%d0%bb%d1%8f-%d1%88%d0%bb%d0%b5%d0%bd%d1%87%d0%b5%d0%ba%d0%b0-%d0%b2-%d0%bb%d0%b0%d1%82%d0%b2%d0%b8%d0%b8/
CATEGORIES:Лекции
ATTACH;FMTTYPE=image/jpeg:https://buddhism.lv/wp-content/uploads/2017/01/DWBA7894_2008_08_eckurs5384_rgn-lpr.jpg
END:VEVENT
END:VCALENDAR