BEGIN:VCALENDAR
VERSION:2.0
PRODID:-//Buddhism.lv - ECPv5.14.1//NONSGML v1.0//EN
CALSCALE:GREGORIAN
METHOD:PUBLISH
X-WR-CALNAME:Buddhism.lv
X-ORIGINAL-URL:https://mail.buddhism.lv
X-WR-CALDESC:Events for Buddhism.lv
BEGIN:VTIMEZONE
TZID:UTC
BEGIN:STANDARD
TZOFFSETFROM:+0000
TZOFFSETTO:+0000
TZNAME:UTC
DTSTART:20190101T000000
END:STANDARD
END:VTIMEZONE
BEGIN:VEVENT
DTSTART;VALUE=DATE:20191220
DTEND;VALUE=DATE:20191223
DTSTAMP:20260421T203533
CREATED:20191212T141438Z
LAST-MODIFIED:20191213T094358Z
UID:1386-1576800000-1577059199@mail.buddhism.lv
SUMMARY:Лекции Флоринды и Гвидо в Риге
DESCRIPTION:20\, 21 и 22 декабря в Рижском Буддийском центре состоятся лекции Флоринды и Гвидо Сея (Австрия). \nПрограмма: \n20.12 пятница: 20:00 лекция\n21.12 суббота 15:00 лекция\n22.12 воскресенье 12:00 лекция \nФлоринда и Гвидо Сея уже более пятнадцати лет являются практикующими буддистами\, а также читают лекции по медитации и буддизму. Им довелось читать лекции по всей Европе\, в России\, Гонконге и Новой Зеландии. В своих лекциях они приводят примеры из своей профессиональной жизни терапевта и консультанта.\nФлоринда Сея практикующий физиотерапевт и преподаватель висцеральной терапии в основанной ею самой школе. Гвидо Сея физик\, соучредитель консалтингового агентства\, работает инструктором и консультантом. Флоринда и Гвидо женаты с 2005 года и проживают в городе Зекирхен\, недалеко от Зальцбурга.
URL:https://mail.buddhism.lv/event/%d0%bb%d0%b5%d0%ba%d1%86%d0%b8%d0%b8-%d1%84%d0%bb%d0%be%d1%80%d0%b8%d0%bd%d0%b4%d1%8b-%d0%b8-%d0%b3%d0%b2%d0%b8%d0%b4%d0%be-%d0%b2-%d1%80%d0%b8%d0%b3%d0%b5/
CATEGORIES:Лекции
ATTACH;FMTTYPE=image/jpeg:https://buddhism.lv/wp-content/uploads/2019/12/photo1.jpg
END:VEVENT
END:VCALENDAR