BEGIN:VCALENDAR
VERSION:2.0
PRODID:-//Buddhism.lv - ECPv5.14.1//NONSGML v1.0//EN
CALSCALE:GREGORIAN
METHOD:PUBLISH
X-WR-CALNAME:Buddhism.lv
X-ORIGINAL-URL:https://mail.buddhism.lv
X-WR-CALDESC:Events for Buddhism.lv
BEGIN:VTIMEZONE
TZID:UTC
BEGIN:STANDARD
TZOFFSETFROM:+0000
TZOFFSETTO:+0000
TZNAME:UTC
DTSTART:20230101T000000
END:STANDARD
END:VTIMEZONE
BEGIN:VEVENT
DTSTART;VALUE=DATE:20231111
DTEND;VALUE=DATE:20231113
DTSTAMP:20260421T094311
CREATED:20231019T203947Z
LAST-MODIFIED:20231019T204803Z
UID:1557-1699660800-1699833599@mail.buddhism.lv
SUMMARY:Bernharda Lindnera lekcijas
DESCRIPTION:Aicinām apmeklēt Bernharda Lindnera (Vācija) lekcijas\, kuras notiks novembrī Dimanta ceļa budisma centrā Rīgā: \n\n11.11\, plkst. 16:00 – lekcija “Dimanta ceļa budisms”\n11.11\, plkst. 19:00 – lekcija “Meditācija”\n12.11\, plkst. 10:00 – lekcija “Sanghas nozīme. Skolotāja un skolnieka attiecības”
URL:https://mail.buddhism.lv/event/bernharda-lindnera-vacija-lekcijas/
CATEGORIES:Lekcijas
ATTACH;FMTTYPE=image/jpeg:https://buddhism.lv/wp-content/uploads/2023/10/Bernhard.jpg
END:VEVENT
END:VCALENDAR