BEGIN:VCALENDAR
VERSION:2.0
PRODID:-//Buddhism.lv - ECPv5.14.1//NONSGML v1.0//EN
CALSCALE:GREGORIAN
METHOD:PUBLISH
X-WR-CALNAME:Buddhism.lv
X-ORIGINAL-URL:https://mail.buddhism.lv
X-WR-CALDESC:Events for Buddhism.lv
BEGIN:VTIMEZONE
TZID:UTC
BEGIN:STANDARD
TZOFFSETFROM:+0000
TZOFFSETTO:+0000
TZNAME:UTC
DTSTART:20220101T000000
END:STANDARD
END:VTIMEZONE
BEGIN:VEVENT
DTSTART;TZID=UTC:20220415T190000
DTEND;TZID=UTC:20220417T150000
DTSTAMP:20260421T203343
CREATED:20220502T135151Z
LAST-MODIFIED:20220502T195915Z
UID:1438-1650049200-1650207600@mail.buddhism.lv
SUMMARY:Danasa Kazlauska lekcijas
DESCRIPTION:Laipni aicinām visus uz Danasa Kazlauska lekcijām Rīgas budisma centrā. \nLekciju programma\n15. aprīlis – 19:00\n16. aprīlis – 17:00\n17. aprīlis – 13:00
URL:https://mail.buddhism.lv/event/danasa-kazlauska-lekcijas/
CATEGORIES:Lekcijas
ATTACH;FMTTYPE=image/jpeg:https://buddhism.lv/wp-content/uploads/2022/05/photo_2022-04-16_18-02-50.jpg
END:VEVENT
END:VCALENDAR