BEGIN:VCALENDAR
VERSION:2.0
PRODID:-//Buddhism.lv - ECPv5.14.1//NONSGML v1.0//EN
CALSCALE:GREGORIAN
METHOD:PUBLISH
X-WR-CALNAME:Buddhism.lv
X-ORIGINAL-URL:https://mail.buddhism.lv
X-WR-CALDESC:Events for Buddhism.lv
BEGIN:VTIMEZONE
TZID:UTC
BEGIN:STANDARD
TZOFFSETFROM:+0000
TZOFFSETTO:+0000
TZNAME:UTC
DTSTART:20220101T000000
END:STANDARD
END:VTIMEZONE
BEGIN:VEVENT
DTSTART;TZID=UTC:20220930T190000
DTEND;TZID=UTC:20221002T160000
DTSTAMP:20260421T174310
CREATED:20220906T213410Z
LAST-MODIFIED:20220906T213553Z
UID:1465-1664564400-1664726400@mail.buddhism.lv
SUMMARY:Gžegoža Kuznieca lekcijas
DESCRIPTION:Draugi!\nAicinām uz ceļojošā skolotāja Gžegoža Kuznieca (Polija) lekcijām\, kas notiks no 30. septembra līdz 2. oktobrim Rīgas Budisma centrā. Lekciju sākums:\n30. septembris (piekdiena) – 19:00\n1. oktobris (sesdiena) – 16:00\n2.oktobris (svētdiena) – 13:00\nLekciju laiki var mainīties!
URL:https://mail.buddhism.lv/event/gzegoza-kuznieca-polija-lekcijas/
CATEGORIES:Lekcijas
ATTACH;FMTTYPE=image/jpeg:https://buddhism.lv/wp-content/uploads/2022/09/302525844_2662751210527426_7052970762680819987_n.jpg
END:VEVENT
END:VCALENDAR