BEGIN:VCALENDAR
VERSION:2.0
PRODID:-//Buddhism.lv - ECPv5.14.1//NONSGML v1.0//EN
CALSCALE:GREGORIAN
METHOD:PUBLISH
X-WR-CALNAME:Buddhism.lv
X-ORIGINAL-URL:https://mail.buddhism.lv
X-WR-CALDESC:Events for Buddhism.lv
BEGIN:VTIMEZONE
TZID:UTC
BEGIN:STANDARD
TZOFFSETFROM:+0000
TZOFFSETTO:+0000
TZNAME:UTC
DTSTART:20230101T000000
END:STANDARD
END:VTIMEZONE
BEGIN:VEVENT
DTSTART;VALUE=DATE:20230715
DTEND;VALUE=DATE:20230717
DTSTAMP:20260421T123528
CREATED:20230509T172131Z
LAST-MODIFIED:20230622T145904Z
UID:1519-1689379200-1689551999@mail.buddhism.lv
SUMMARY:Kristiana Boesela lekcija nenotiks
DESCRIPTION:Laipni aicinām uz vīkendu ar Kristianu Boeselu (Vācija)\, kurš notiks jūlija vidū Dimanta ceļa budisma centrā Rīgā: \n\n15.07\, plkst. 20:00 – lekcija “Karma Kagyu skolas vēsture. Budisms Rietumu pasaulē”\n16.07\, plkst. 20:00 – meditāciju diena
URL:https://mail.buddhism.lv/event/kristiana-boesela-lekcija/
ATTACH;FMTTYPE=image/jpeg:https://buddhism.lv/wp-content/uploads/2023/05/boesel.jpg
END:VEVENT
END:VCALENDAR