BEGIN:VCALENDAR
VERSION:2.0
PRODID:-//Buddhism.lv - ECPv5.14.1//NONSGML v1.0//EN
CALSCALE:GREGORIAN
METHOD:PUBLISH
X-WR-CALNAME:Buddhism.lv
X-ORIGINAL-URL:https://mail.buddhism.lv
X-WR-CALDESC:Events for Buddhism.lv
BEGIN:VTIMEZONE
TZID:UTC
BEGIN:STANDARD
TZOFFSETFROM:+0000
TZOFFSETTO:+0000
TZNAME:UTC
DTSTART:20220101T000000
END:STANDARD
END:VTIMEZONE
BEGIN:VEVENT
DTSTART;TZID=UTC:20220706T190000
DTEND;TZID=UTC:20220707T210000
DTSTAMP:20260421T190357
CREATED:20220702T212228Z
LAST-MODIFIED:20220702T212337Z
UID:1447-1657134000-1657227600@mail.buddhism.lv
SUMMARY:Olgas Komarovas lekcijas
DESCRIPTION:Aicinām uz ceļojošās skolotājas Olgas Komarovas (Dānija) lekcijām\, kas notiks 6. jūlijā (trešdiena) un 7. jūlijā (ceturtdiena) Rīgas Budisma centrā. Lekciju sākums 19:00.\nOlga dzimusi Baltkrievijā\, bet no 2010.gada dzīvo Dānijā. Strādā IT jomā. Dimanta ceļa budisma metodes praktizē kopš 1999. gada. 2009.gadā Lama Ole palūdza Olgu sākt lasīt lekcijas par budismu.
URL:https://mail.buddhism.lv/event/olgas-komarovas-lekcijas/
CATEGORIES:Lekcijas
ATTACH;FMTTYPE=image/jpeg:https://buddhism.lv/wp-content/uploads/2022/07/289369995_2600416406760907_1938520285988397255_n-e1656796935135.jpg
END:VEVENT
END:VCALENDAR