BEGIN:VCALENDAR
VERSION:2.0
PRODID:-//Buddhism.lv - ECPv5.14.1//NONSGML v1.0//EN
CALSCALE:GREGORIAN
METHOD:PUBLISH
X-WR-CALNAME:Buddhism.lv
X-ORIGINAL-URL:https://mail.buddhism.lv
X-WR-CALDESC:Events for Buddhism.lv
BEGIN:VTIMEZONE
TZID:Europe/Helsinki
BEGIN:DAYLIGHT
TZOFFSETFROM:+0200
TZOFFSETTO:+0300
TZNAME:EEST
DTSTART:20220327T010000
END:DAYLIGHT
BEGIN:STANDARD
TZOFFSETFROM:+0300
TZOFFSETTO:+0200
TZNAME:EET
DTSTART:20221030T010000
END:STANDARD
END:VTIMEZONE
BEGIN:VEVENT
DTSTART;VALUE=DATE:20220922
DTEND;VALUE=DATE:20220926
DTSTAMP:20260421T175054
CREATED:20220808T083319Z
LAST-MODIFIED:20220808T095048Z
UID:1454-1663804800-1664150399@mail.buddhism.lv
SUMMARY:Stūpas inaugurācijas kurss Stupkalnī
DESCRIPTION:Laipni aicinām jūs uz Lhabab Stūpas inaugurāciju\, kas norisināsies retrīta centrā Stupkalnī\, Lietuvā. Stūpu iesvētīs Lama Nedo Rinpoče 2022. gada 24. septembrī. \nSīkāka informācija pieejama šeit: https://www.stupkalnis.lt/lv/stupa-inauguration-course-program-3/
URL:https://mail.buddhism.lv/event/stupas-inauguracijas-kurs-stupkalni/
CATEGORIES:Lekcijas
ATTACH;FMTTYPE=image/jpeg:https://buddhism.lv/wp-content/uploads/2022/08/stupa-info_digital-scaled-1.jpg
END:VEVENT
END:VCALENDAR